BEGIN:VCALENDAR
VERSION:2.0
PRODID:-//Hotzenplotzer Musikanten vom Bodensee - ECPv6.15.19//NONSGML v1.0//EN
CALSCALE:GREGORIAN
METHOD:PUBLISH
X-WR-CALNAME:Hotzenplotzer Musikanten vom Bodensee
X-ORIGINAL-URL:https://hotzenplotzermusikanten.de
X-WR-CALDESC:Veranstaltungen für Hotzenplotzer Musikanten vom Bodensee
REFRESH-INTERVAL;VALUE=DURATION:PT1H
X-Robots-Tag:noindex
X-PUBLISHED-TTL:PT1H
BEGIN:VTIMEZONE
TZID:Europe/Berlin
BEGIN:DAYLIGHT
TZOFFSETFROM:+0100
TZOFFSETTO:+0200
TZNAME:CEST
DTSTART:20240331T010000
END:DAYLIGHT
BEGIN:STANDARD
TZOFFSETFROM:+0200
TZOFFSETTO:+0100
TZNAME:CET
DTSTART:20241027T010000
END:STANDARD
BEGIN:DAYLIGHT
TZOFFSETFROM:+0100
TZOFFSETTO:+0200
TZNAME:CEST
DTSTART:20250330T010000
END:DAYLIGHT
BEGIN:STANDARD
TZOFFSETFROM:+0200
TZOFFSETTO:+0100
TZNAME:CET
DTSTART:20251026T010000
END:STANDARD
BEGIN:DAYLIGHT
TZOFFSETFROM:+0100
TZOFFSETTO:+0200
TZNAME:CEST
DTSTART:20260329T010000
END:DAYLIGHT
BEGIN:STANDARD
TZOFFSETFROM:+0200
TZOFFSETTO:+0100
TZNAME:CET
DTSTART:20261025T010000
END:STANDARD
END:VTIMEZONE
BEGIN:VEVENT
DTSTART;TZID=Europe/Berlin:20251102T150000
DTEND;TZID=Europe/Berlin:20251102T180000
DTSTAMP:20260422T182757
CREATED:20250915T151429Z
LAST-MODIFIED:20250930T144240Z
UID:1003-1762095600-1762106400@hotzenplotzermusikanten.de
SUMMARY:Wilder Mann Meersburg Tanztee
DESCRIPTION:
URL:https://hotzenplotzermusikanten.de/termin/wilder-mann-meersburg-tanztee/
CATEGORIES:2025
ATTACH;FMTTYPE=image/png:https://hotzenplotzermusikanten.de/wp-content/uploads/2025/06/Momentaufnahme-2-24.06.2025-15-35.png
END:VEVENT
BEGIN:VEVENT
DTSTART;TZID=Europe/Berlin:20251129T140000
DTEND;TZID=Europe/Berlin:20251129T140000
DTSTAMP:20260422T182757
CREATED:20250203T105611Z
LAST-MODIFIED:20250616T142509Z
UID:682-1764424800-1764424800@hotzenplotzermusikanten.de
SUMMARY:Salem Weihnachtsmarkt
DESCRIPTION:
URL:https://hotzenplotzermusikanten.de/termin/salem-weihnachtsmarkt/
CATEGORIES:2025
ATTACH;FMTTYPE=image/jpeg:https://hotzenplotzermusikanten.de/wp-content/uploads/2019/11/IMG-20191201-WA0000.jpg
END:VEVENT
END:VCALENDAR