BEGIN:VCALENDAR
VERSION:2.0
PRODID:-//Hotzenplotzer Musikanten vom Bodensee - ECPv6.15.19//NONSGML v1.0//EN
CALSCALE:GREGORIAN
METHOD:PUBLISH
X-ORIGINAL-URL:https://hotzenplotzermusikanten.de
X-WR-CALDESC:Veranstaltungen für Hotzenplotzer Musikanten vom Bodensee
REFRESH-INTERVAL;VALUE=DURATION:PT1H
X-Robots-Tag:noindex
X-PUBLISHED-TTL:PT1H
BEGIN:VTIMEZONE
TZID:Europe/Berlin
BEGIN:DAYLIGHT
TZOFFSETFROM:+0100
TZOFFSETTO:+0200
TZNAME:CEST
DTSTART:20240331T010000
END:DAYLIGHT
BEGIN:STANDARD
TZOFFSETFROM:+0200
TZOFFSETTO:+0100
TZNAME:CET
DTSTART:20241027T010000
END:STANDARD
BEGIN:DAYLIGHT
TZOFFSETFROM:+0100
TZOFFSETTO:+0200
TZNAME:CEST
DTSTART:20250330T010000
END:DAYLIGHT
BEGIN:STANDARD
TZOFFSETFROM:+0200
TZOFFSETTO:+0100
TZNAME:CET
DTSTART:20251026T010000
END:STANDARD
BEGIN:DAYLIGHT
TZOFFSETFROM:+0100
TZOFFSETTO:+0200
TZNAME:CEST
DTSTART:20260329T010000
END:DAYLIGHT
BEGIN:STANDARD
TZOFFSETFROM:+0200
TZOFFSETTO:+0100
TZNAME:CET
DTSTART:20261025T010000
END:STANDARD
END:VTIMEZONE
BEGIN:VEVENT
DTSTART;TZID=Europe/Berlin:20250609T110000
DTEND;TZID=Europe/Berlin:20250609T150000
DTSTAMP:20260423T014734
CREATED:20250130T091539Z
LAST-MODIFIED:20250616T142554Z
UID:671-1749466800-1749481200@hotzenplotzermusikanten.de
SUMMARY:Pfingstmarkt Ehningen
DESCRIPTION:
URL:https://hotzenplotzermusikanten.de/termin/pfingstmarkt-ehningen/
CATEGORIES:2025
ATTACH;FMTTYPE=image/jpeg:https://hotzenplotzermusikanten.de/wp-content/uploads/2024/12/pfingstmarkt-ehningen-2024-1.jpg
END:VEVENT
BEGIN:VEVENT
DTSTART;TZID=Europe/Berlin:20250629T110000
DTEND;TZID=Europe/Berlin:20250629T140000
DTSTAMP:20260423T014734
CREATED:20250324T082206Z
LAST-MODIFIED:20250616T142546Z
UID:835-1751194800-1751205600@hotzenplotzermusikanten.de
SUMMARY:60 Jahre SV Liggersdorf
DESCRIPTION:
URL:https://hotzenplotzermusikanten.de/termin/60-jahre-sv-liggersdorf/
CATEGORIES:2025
END:VEVENT
END:VCALENDAR