BEGIN:VCALENDAR
VERSION:2.0
PRODID:-//Hotzenplotzer Musikanten vom Bodensee - ECPv6.15.19//NONSGML v1.0//EN
CALSCALE:GREGORIAN
METHOD:PUBLISH
X-ORIGINAL-URL:https://hotzenplotzermusikanten.de
X-WR-CALDESC:Veranstaltungen für Hotzenplotzer Musikanten vom Bodensee
REFRESH-INTERVAL;VALUE=DURATION:PT1H
X-Robots-Tag:noindex
X-PUBLISHED-TTL:PT1H
BEGIN:VTIMEZONE
TZID:Europe/Berlin
BEGIN:DAYLIGHT
TZOFFSETFROM:+0100
TZOFFSETTO:+0200
TZNAME:CEST
DTSTART:20240331T010000
END:DAYLIGHT
BEGIN:STANDARD
TZOFFSETFROM:+0200
TZOFFSETTO:+0100
TZNAME:CET
DTSTART:20241027T010000
END:STANDARD
BEGIN:DAYLIGHT
TZOFFSETFROM:+0100
TZOFFSETTO:+0200
TZNAME:CEST
DTSTART:20250330T010000
END:DAYLIGHT
BEGIN:STANDARD
TZOFFSETFROM:+0200
TZOFFSETTO:+0100
TZNAME:CET
DTSTART:20251026T010000
END:STANDARD
BEGIN:DAYLIGHT
TZOFFSETFROM:+0100
TZOFFSETTO:+0200
TZNAME:CEST
DTSTART:20260329T010000
END:DAYLIGHT
BEGIN:STANDARD
TZOFFSETFROM:+0200
TZOFFSETTO:+0100
TZNAME:CET
DTSTART:20261025T010000
END:STANDARD
END:VTIMEZONE
BEGIN:VEVENT
DTSTART;TZID=Europe/Berlin:20250501T110000
DTEND;TZID=Europe/Berlin:20250501T140000
DTSTAMP:20260423T032852
CREATED:20250130T080700Z
LAST-MODIFIED:20250616T142609Z
UID:662-1746097200-1746108000@hotzenplotzermusikanten.de
SUMMARY:Jägerhof Pfullendorf
DESCRIPTION:
URL:https://hotzenplotzermusikanten.de/termin/jaegerhof-pfullendorf/
CATEGORIES:2025
ATTACH;FMTTYPE=image/jpeg:https://hotzenplotzermusikanten.de/wp-content/uploads/2025/01/IMG-20240728-WA0007.jpg
END:VEVENT
BEGIN:VEVENT
DTSTART;TZID=Europe/Berlin:20250529T130000
DTEND;TZID=Europe/Berlin:20250529T160000
DTSTAMP:20260423T032852
CREATED:20250409T210825Z
LAST-MODIFIED:20250616T142600Z
UID:840-1748523600-1748534400@hotzenplotzermusikanten.de
SUMMARY:Rebmannshof Maurach
DESCRIPTION:
URL:https://hotzenplotzermusikanten.de/termin/rebmannshof-maurach/
CATEGORIES:2025
END:VEVENT
END:VCALENDAR