BEGIN:VCALENDAR
VERSION:2.0
PRODID:-//Hotzenplotzer Musikanten vom Bodensee - ECPv6.15.19//NONSGML v1.0//EN
CALSCALE:GREGORIAN
METHOD:PUBLISH
X-WR-CALNAME:Hotzenplotzer Musikanten vom Bodensee
X-ORIGINAL-URL:https://hotzenplotzermusikanten.de
X-WR-CALDESC:Veranstaltungen für Hotzenplotzer Musikanten vom Bodensee
REFRESH-INTERVAL;VALUE=DURATION:PT1H
X-Robots-Tag:noindex
X-PUBLISHED-TTL:PT1H
BEGIN:VTIMEZONE
TZID:Europe/Berlin
BEGIN:DAYLIGHT
TZOFFSETFROM:+0100
TZOFFSETTO:+0200
TZNAME:CEST
DTSTART:20250330T010000
END:DAYLIGHT
BEGIN:STANDARD
TZOFFSETFROM:+0200
TZOFFSETTO:+0100
TZNAME:CET
DTSTART:20251026T010000
END:STANDARD
BEGIN:DAYLIGHT
TZOFFSETFROM:+0100
TZOFFSETTO:+0200
TZNAME:CEST
DTSTART:20260329T010000
END:DAYLIGHT
BEGIN:STANDARD
TZOFFSETFROM:+0200
TZOFFSETTO:+0100
TZNAME:CET
DTSTART:20261025T010000
END:STANDARD
BEGIN:DAYLIGHT
TZOFFSETFROM:+0100
TZOFFSETTO:+0200
TZNAME:CEST
DTSTART:20270328T010000
END:DAYLIGHT
BEGIN:STANDARD
TZOFFSETFROM:+0200
TZOFFSETTO:+0100
TZNAME:CET
DTSTART:20271031T010000
END:STANDARD
END:VTIMEZONE
BEGIN:VEVENT
DTSTART;TZID=Europe/Berlin:20260426T153000
DTEND;TZID=Europe/Berlin:20260426T153000
DTSTAMP:20260420T115003
CREATED:20250605T085842Z
LAST-MODIFIED:20250616T141126Z
UID:856-1777217400-1777217400@hotzenplotzermusikanten.de
SUMMARY:Frühlingsfest Ringgenbach
DESCRIPTION:
URL:https://hotzenplotzermusikanten.de/termin/fruehlingsfest-ringgenbach/
CATEGORIES:2026
END:VEVENT
BEGIN:VEVENT
DTSTART;TZID=Europe/Berlin:20260514T130000
DTEND;TZID=Europe/Berlin:20260514T130000
DTSTAMP:20260420T115003
CREATED:20250902T183622Z
LAST-MODIFIED:20250902T184824Z
UID:993-1778763600-1778763600@hotzenplotzermusikanten.de
SUMMARY:Pilgerhof-Rebmannshof     Gute-Laune-Musik   Stimmung   Vatertag
DESCRIPTION:
URL:https://hotzenplotzermusikanten.de/termin/pilgerhof-rebmannshof-gute-laune-musik-vatertag/
CATEGORIES:2026
END:VEVENT
BEGIN:VEVENT
DTSTART;TZID=Europe/Berlin:20260525T110000
DTEND;TZID=Europe/Berlin:20260525T110000
DTSTAMP:20260420T115003
CREATED:20260315T143056Z
LAST-MODIFIED:20260315T143056Z
UID:1100-1779706800-1779706800@hotzenplotzermusikanten.de
SUMMARY:Pfingstmarkt Ehningen
DESCRIPTION:
URL:https://hotzenplotzermusikanten.de/termin/pfingstmarkt-ehningen-2/
CATEGORIES:2026
END:VEVENT
BEGIN:VEVENT
DTSTART;TZID=Europe/Berlin:20260614T150000
DTEND;TZID=Europe/Berlin:20260614T180000
DTSTAMP:20260420T115003
CREATED:20260315T143253Z
LAST-MODIFIED:20260315T143253Z
UID:1103-1781449200-1781460000@hotzenplotzermusikanten.de
SUMMARY:Wilder Mann Meersburg
DESCRIPTION:
URL:https://hotzenplotzermusikanten.de/termin/wilder-mann-meersburg/
CATEGORIES:2026
END:VEVENT
BEGIN:VEVENT
DTSTART;TZID=Europe/Berlin:20260704T190000
DTEND;TZID=Europe/Berlin:20260704T190000
DTSTAMP:20260420T115003
CREATED:20260209T221057Z
LAST-MODIFIED:20260209T221149Z
UID:1096-1783191600-1783191600@hotzenplotzermusikanten.de
SUMMARY:MV Güttingen Ulrichsfest mit Gute-Laune-Musik und Stimmung
DESCRIPTION:
URL:https://hotzenplotzermusikanten.de/termin/mv-guettingen-ulrichsfest-mit-gute-laune-musik/
CATEGORIES:2026
END:VEVENT
BEGIN:VEVENT
DTSTART;TZID=Europe/Berlin:20260726T130000
DTEND;TZID=Europe/Berlin:20260726T130000
DTSTAMP:20260420T115003
CREATED:20260107T220442Z
LAST-MODIFIED:20260107T220442Z
UID:1075-1785070800-1785070800@hotzenplotzermusikanten.de
SUMMARY:Hafenfest Uhldingen
DESCRIPTION:
URL:https://hotzenplotzermusikanten.de/termin/hafenfest-uhldingen/
CATEGORIES:2026
END:VEVENT
BEGIN:VEVENT
DTSTART;TZID=Europe/Berlin:20261128T140000
DTEND;TZID=Europe/Berlin:20261128T140000
DTSTAMP:20260420T115003
CREATED:20260126T180753Z
LAST-MODIFIED:20260126T180753Z
UID:1079-1795874400-1795874400@hotzenplotzermusikanten.de
SUMMARY:Salem Weihnachtsmarkt
DESCRIPTION:
URL:https://hotzenplotzermusikanten.de/termin/salem-weihnachtsmarkt-2/
CATEGORIES:2026
END:VEVENT
END:VCALENDAR